BEGIN:VCALENDAR
VERSION:2.0
PRODID:-//Kamano Hondenschool IJmuiden - ECPv4.9.11//NONSGML v1.0//EN
CALSCALE:GREGORIAN
METHOD:PUBLISH
X-WR-CALNAME:Kamano Hondenschool IJmuiden
X-ORIGINAL-URL:https://www.hondenschoolijmuiden.nl
X-WR-CALDESC:Events for Kamano Hondenschool IJmuiden
BEGIN:VTIMEZONE
TZID:Europe/Paris
BEGIN:DAYLIGHT
TZOFFSETFROM:+0100
TZOFFSETTO:+0200
TZNAME:CEST
DTSTART:20150329T010000
END:DAYLIGHT
BEGIN:STANDARD
TZOFFSETFROM:+0200
TZOFFSETTO:+0100
TZNAME:CET
DTSTART:20151025T010000
END:STANDARD
END:VTIMEZONE
BEGIN:VEVENT
DTSTART;TZID=Europe/Paris:20150215T140000
DTEND;TZID=Europe/Paris:20150215T163000
DTSTAMP:20260424T052319
CREATED:20150120T201610Z
LAST-MODIFIED:20150207T225814Z
UID:264-1424008800-1424017800@www.hondenschoolijmuiden.nl
SUMMARY:Workshop Impuls Controle: nog 1plekje vrij!
DESCRIPTION:Enige tijd geleden heb ik via Facebook gepolst wie er interesse zou hebben in een workshop Impuls controle…en dat heb ik geweten! Binnen no time zag ik zo’n 12 geïnteresseerden..wow!  \nIk heb hier wel even flink mijn gedachten over laten gaan\, impuls controle is zo’n breed gebied en ik wil heel graag gerichte ondersteuning aan kunnen bieden\,en niet tips voor een probleem wat jij nu net niet hebt met je hond.. \nWat is impuls controle eigenlijk? In mijn ogen een mooie term voor zelfbeheersing van je hond\, dus het niet meer impulsief reageren op bepaalde verleidingen uit de omgeving van de hond… \nDenk aan opspringen tegen mensen\, stelen bijv. van tafel\, jagen achter fietsers of joggers\, z’n neus achternalopen (weglopen)\, enzovoorts..al die situaties waarvan je als eigenaar denkt “doe nou s normaal” J \nInmiddels zijn er 2 datums gepland voor deze workshops\, op 31 januari en op 15 februari. \nWil je meedoen geef je dan snel op\, ook als je via Facebook gereageerd had. Er kunnen (per workshop) maximaal 6 deelnemers met hond meedoen (uiteraard kun je je ook als deelnemer zonder hond opgeven)! Extra bij de aanmelding wil ik je vragen om aan te geven welk gedrag je hond vertoont waar je graag advies voor wilt hebben\, en waar / in welke situatie het gedrag zich voordoet. Afhankelijk van het type problemen ga ik bepalen waar we de workshop het beste kunnen houden\, in de hal of ergens buiten op locatie\, dit horen de deelnemers ruim op tijd. Ik probeer misschien om soortgelijke problemen te clusteren\, zodat je zoveel mogelijk rendement van de workshop hebt\, laat dus even duidelijk weten of je echt op een bepaalde datum wilt meedoen of dat je beide data ingedeeld kan worden…NB Mocht je zeer specifieke problemen hebben\, kunnen we altijd eens een (half) uurtje privéles plannen.. \n
URL:https://www.hondenschoolijmuiden.nl/evenementen/workshop-impuls-controle/
LOCATION:Trainingslocatie Kamano Dogconsultancy\, Kaarweg 11\, IJmuiden\, Noord-Holland\, 1976CZ\, Nederland
CATEGORIES:Workshop
END:VEVENT
END:VCALENDAR