BEGIN:VCALENDAR
VERSION:2.0
PRODID:-//Kamano Hondenschool IJmuiden - ECPv4.9.11//NONSGML v1.0//EN
CALSCALE:GREGORIAN
METHOD:PUBLISH
X-WR-CALNAME:Kamano Hondenschool IJmuiden
X-ORIGINAL-URL:https://www.hondenschoolijmuiden.nl
X-WR-CALDESC:Events for Kamano Hondenschool IJmuiden
BEGIN:VTIMEZONE
TZID:Europe/Paris
BEGIN:DAYLIGHT
TZOFFSETFROM:+0100
TZOFFSETTO:+0200
TZNAME:CEST
DTSTART:20150329T010000
END:DAYLIGHT
BEGIN:STANDARD
TZOFFSETFROM:+0200
TZOFFSETTO:+0100
TZNAME:CET
DTSTART:20151025T010000
END:STANDARD
END:VTIMEZONE
BEGIN:VEVENT
DTSTART;TZID=Europe/Paris:20150503T141500
DTEND;TZID=Europe/Paris:20150503T163000
DTSTAMP:20260420T023231
CREATED:20150412T065341Z
LAST-MODIFIED:20150414T100753Z
UID:381-1430662500-1430670600@www.hondenschoolijmuiden.nl
SUMMARY:Workshop Hoopers
DESCRIPTION:Na het grote succes van de eerste Hoopers cursussen\, organiseert Kamano Dogconsultancy nu opnieuw een workshop zodat je kennis kunt maken met deze hondensport. Deze workshop wordt in of bij de binnenlocatie in IJmuiden gegeven. \nDe bedoeling is dat je je hond op afstand door een parcours stuurt. Het parcours bestaat uit boogvormige hoepels\, de hond kan daar gewoon overheen lopen en hoeft dus niet te springen\, ook kunnen er tonnen\, hekjes en een tunnel in het parcours gebruikt worden. Het parcours bestaat uit vloeiende lijnen. \nDaarom is deze sport zeer geschikt voor honden waarvoor\, bijvoorbeeld door hun grootte\, de sprongen en toestellen van de Agility te belastend zijn. En voor jonge honden die nog niet mogen springen. Maar ook “senior” honden en honden in een revalidatie traject mogen Hoopers beoefenen. Voor de handler is Hoopers fysiek ook minder belastend dan agility\, het stelt wel eisen aan je duidelijkheid voor je hond als handler… \nDe leukste uitdaging is om te proberen om zo goed mogelijk je hond op afstand te leren handlen en samen met je hond plezier te hebben. \nKortom voor iedereen en alle honden!!!! Klik op onderstaande link om een idee te krijgen van wat Hoopers is: https://www.youtube.com/watch?v=eEVP396gIC4  (Ctrl+enter gebruiken) \n   \n  \n
URL:https://www.hondenschoolijmuiden.nl/evenementen/workshop-hoopers/
LOCATION:Trainingslocatie Kamano Dogconsultancy\, Kaarweg 11\, IJmuiden\, Noord-Holland\, 1976CZ\, Nederland
END:VEVENT
END:VCALENDAR