BEGIN:VCALENDAR
VERSION:2.0
PRODID:-//Kamano Hondenschool IJmuiden - ECPv4.9.11//NONSGML v1.0//EN
CALSCALE:GREGORIAN
METHOD:PUBLISH
X-WR-CALNAME:Kamano Hondenschool IJmuiden
X-ORIGINAL-URL:https://www.hondenschoolijmuiden.nl
X-WR-CALDESC:Events for Kamano Hondenschool IJmuiden
BEGIN:VTIMEZONE
TZID:Europe/Paris
BEGIN:DAYLIGHT
TZOFFSETFROM:+0100
TZOFFSETTO:+0200
TZNAME:CEST
DTSTART:20170326T010000
END:DAYLIGHT
BEGIN:STANDARD
TZOFFSETFROM:+0200
TZOFFSETTO:+0100
TZNAME:CET
DTSTART:20171029T010000
END:STANDARD
END:VTIMEZONE
BEGIN:VEVENT
DTSTART;TZID=Europe/Paris:20170325T150000
DTEND;TZID=Europe/Paris:20170325T170000
DTSTAMP:20260420T041831
CREATED:20170318T202637Z
LAST-MODIFIED:20170318T202650Z
UID:793-1490454000-1490461200@www.hondenschoolijmuiden.nl
SUMMARY:Workshop Hondenmassage (vol)
DESCRIPTION:voor meer info: kijk bij de nieuwsberichten! \n
URL:https://www.hondenschoolijmuiden.nl/evenementen/workshop-hondenmassage-vol/
LOCATION:Trainingslocatie Kamano Dogconsultancy\, Kaarweg 11\, IJmuiden\, Noord-Holland\, 1976CZ\, Nederland
CATEGORIES:Workshop
END:VEVENT
END:VCALENDAR