BEGIN:VCALENDAR
VERSION:2.0
PRODID:-//Kamano Hondenschool IJmuiden - ECPv4.9.11//NONSGML v1.0//EN
CALSCALE:GREGORIAN
METHOD:PUBLISH
X-WR-CALNAME:Kamano Hondenschool IJmuiden
X-ORIGINAL-URL:https://www.hondenschoolijmuiden.nl
X-WR-CALDESC:Events for Kamano Hondenschool IJmuiden
BEGIN:VTIMEZONE
TZID:Europe/Paris
BEGIN:DAYLIGHT
TZOFFSETFROM:+0100
TZOFFSETTO:+0200
TZNAME:CEST
DTSTART:20200329T010000
END:DAYLIGHT
BEGIN:STANDARD
TZOFFSETFROM:+0200
TZOFFSETTO:+0100
TZNAME:CET
DTSTART:20201025T010000
END:STANDARD
END:VTIMEZONE
BEGIN:VEVENT
DTSTART;TZID=Europe/Paris:20200321T100000
DTEND;TZID=Europe/Paris:20200321T103000
DTSTAMP:20260420T060519
CREATED:20200318T222407Z
LAST-MODIFIED:20200320T100702Z
UID:1382-1584784800-1584786600@www.hondenschoolijmuiden.nl
SUMMARY:BEZET PUP Privé les 10.00 - 10.30
DESCRIPTION:
URL:https://www.hondenschoolijmuiden.nl/evenementen/vrij-pup-prive-les-10-00-10-30/
LOCATION:Hondenschool Kamano Dogconsultancy\, Kaarweg 11\, IJmuiden\, Noord-Holland\, 1976CZ\, Nederland
CATEGORIES:Lessen
END:VEVENT
END:VCALENDAR