BEGIN:VCALENDAR
VERSION:2.0
PRODID:-//Kamano Hondenschool IJmuiden - ECPv4.9.11//NONSGML v1.0//EN
CALSCALE:GREGORIAN
METHOD:PUBLISH
X-WR-CALNAME:Kamano Hondenschool IJmuiden
X-ORIGINAL-URL:https://www.hondenschoolijmuiden.nl
X-WR-CALDESC:Events for Kamano Hondenschool IJmuiden
BEGIN:VTIMEZONE
TZID:Europe/Paris
BEGIN:DAYLIGHT
TZOFFSETFROM:+0100
TZOFFSETTO:+0200
TZNAME:CEST
DTSTART:20200329T010000
END:DAYLIGHT
BEGIN:STANDARD
TZOFFSETFROM:+0200
TZOFFSETTO:+0100
TZNAME:CET
DTSTART:20201025T010000
END:STANDARD
END:VTIMEZONE
BEGIN:VEVENT
DTSTART;TZID=Europe/Paris:20200321T112500
DTEND;TZID=Europe/Paris:20200321T115500
DTSTAMP:20260420T023759
CREATED:20200318T202034Z
LAST-MODIFIED:20200318T210523Z
UID:1371-1584789900-1584791700@www.hondenschoolijmuiden.nl
SUMMARY:BEZET PUP Privé 11.25 - 11.55 uur
DESCRIPTION:
URL:https://www.hondenschoolijmuiden.nl/evenementen/vrij-pup-prive-11-25-11-55-uur/
LOCATION:Hondenschool Kamano Dogconsultancy\, Kaarweg 11\, IJmuiden\, Noord-Holland\, 1976CZ\, Nederland
CATEGORIES:Lessen
END:VEVENT
END:VCALENDAR