BEGIN:VCALENDAR
VERSION:2.0
PRODID:-//Kamano Hondenschool IJmuiden - ECPv4.9.11//NONSGML v1.0//EN
CALSCALE:GREGORIAN
METHOD:PUBLISH
X-WR-CALNAME:Kamano Hondenschool IJmuiden
X-ORIGINAL-URL:https://www.hondenschoolijmuiden.nl
X-WR-CALDESC:Events for Kamano Hondenschool IJmuiden
BEGIN:VTIMEZONE
TZID:Europe/Paris
BEGIN:DAYLIGHT
TZOFFSETFROM:+0100
TZOFFSETTO:+0200
TZNAME:CEST
DTSTART:20140330T010000
END:DAYLIGHT
BEGIN:STANDARD
TZOFFSETFROM:+0200
TZOFFSETTO:+0100
TZNAME:CET
DTSTART:20141026T010000
END:STANDARD
END:VTIMEZONE
BEGIN:VEVENT
DTSTART;TZID=Europe/Paris:20141229T183000
DTEND;TZID=Europe/Paris:20141229T193000
DTSTAMP:20260424T140957
CREATED:20141226T224614Z
LAST-MODIFIED:20141226T224614Z
UID:235-1419877800-1419881400@www.hondenschoolijmuiden.nl
SUMMARY:Vervolg&Gevorderden les
DESCRIPTION:
URL:https://www.hondenschoolijmuiden.nl/evenementen/vervolggevorderden-les/
LOCATION:Hondenschool Kamano Dogconsultancy\, Kaarweg 11\, IJmuiden\, Noord-Holland\, 1976CZ\, Nederland
CATEGORIES:Lessen
END:VEVENT
END:VCALENDAR