BEGIN:VCALENDAR
VERSION:2.0
PRODID:-//Kamano Hondenschool IJmuiden - ECPv4.9.11//NONSGML v1.0//EN
CALSCALE:GREGORIAN
METHOD:PUBLISH
X-WR-CALNAME:Kamano Hondenschool IJmuiden
X-ORIGINAL-URL:https://www.hondenschoolijmuiden.nl
X-WR-CALDESC:Events for Kamano Hondenschool IJmuiden
BEGIN:VTIMEZONE
TZID:Europe/Paris
BEGIN:DAYLIGHT
TZOFFSETFROM:+0100
TZOFFSETTO:+0200
TZNAME:CEST
DTSTART:20190331T010000
END:DAYLIGHT
BEGIN:STANDARD
TZOFFSETFROM:+0200
TZOFFSETTO:+0100
TZNAME:CET
DTSTART:20191027T010000
END:STANDARD
END:VTIMEZONE
BEGIN:VEVENT
DTSTART;TZID=Europe/Paris:20190420T104500
DTEND;TZID=Europe/Paris:20190420T114500
DTSTAMP:20260420T005652
CREATED:20190419T145118Z
LAST-MODIFIED:20190419T145210Z
UID:1195-1555757100-1555760700@www.hondenschoolijmuiden.nl
SUMMARY:VERVOLG Praktijk-les
DESCRIPTION:Op zaterdag 20 april 2019 trainen de vervolg-cursisten buiten\, we spreken af om 10.45 uur op de parkeerplaats bij zwembad De Heerenduinen\, Heerenduinweg 6 in IJmuiden. Vergeet niet om water en een drinkbakje voor je hond mee te nemen! \n
URL:https://www.hondenschoolijmuiden.nl/evenementen/vervolg-praktijk-les/
LOCATION:Parkeerplaats zwembad De Heerenduinen\, IJmuiden\, Heerenduinweg 6\, IJmuiden\, Noord-Holland\, Nederland
CATEGORIES:Praktijk-les op locatie
END:VEVENT
END:VCALENDAR