BEGIN:VCALENDAR
VERSION:2.0
PRODID:-//Kamano Hondenschool IJmuiden - ECPv4.9.11//NONSGML v1.0//EN
CALSCALE:GREGORIAN
METHOD:PUBLISH
X-WR-CALNAME:Kamano Hondenschool IJmuiden
X-ORIGINAL-URL:https://www.hondenschoolijmuiden.nl
X-WR-CALDESC:Events for Kamano Hondenschool IJmuiden
BEGIN:VTIMEZONE
TZID:Europe/Paris
BEGIN:DAYLIGHT
TZOFFSETFROM:+0100
TZOFFSETTO:+0200
TZNAME:CEST
DTSTART:20190331T010000
END:DAYLIGHT
BEGIN:STANDARD
TZOFFSETFROM:+0200
TZOFFSETTO:+0100
TZNAME:CET
DTSTART:20191027T010000
END:STANDARD
END:VTIMEZONE
BEGIN:VEVENT
DTSTART;VALUE=DATE:20190527
DTEND;VALUE=DATE:20190613
DTSTAMP:20260419T201950
CREATED:20190401T075052Z
LAST-MODIFIED:20190506T090236Z
UID:1188-1558915200-1560383999@www.hondenschoolijmuiden.nl
SUMMARY:Vakantie: hondenschool gesloten\, dagopvang is wel open
DESCRIPTION:Van maandag 27 mei 2019 tot en met maandag 10 juni 2019 is de hondenschool gesloten wegens vakantie. In deze periode zullen alleen enkele puppy-lessen gegeven worden\, de data en tijden daarvan worden binnenkort bekendgemaakt. \nDe dagopvang zal gewoon open blijven. \n
URL:https://www.hondenschoolijmuiden.nl/evenementen/vakantie-hondenschool-gesloten-dagopvang-is-wel-open/
END:VEVENT
END:VCALENDAR