BEGIN:VCALENDAR
VERSION:2.0
PRODID:-//Kamano Hondenschool IJmuiden - ECPv4.9.11//NONSGML v1.0//EN
CALSCALE:GREGORIAN
METHOD:PUBLISH
X-WR-CALNAME:Kamano Hondenschool IJmuiden
X-ORIGINAL-URL:https://www.hondenschoolijmuiden.nl
X-WR-CALDESC:Events for Kamano Hondenschool IJmuiden
BEGIN:VTIMEZONE
TZID:Europe/Paris
BEGIN:DAYLIGHT
TZOFFSETFROM:+0100
TZOFFSETTO:+0200
TZNAME:CEST
DTSTART:20170326T010000
END:DAYLIGHT
BEGIN:STANDARD
TZOFFSETFROM:+0200
TZOFFSETTO:+0100
TZNAME:CET
DTSTART:20171029T010000
END:STANDARD
END:VTIMEZONE
BEGIN:VEVENT
DTSTART;TZID=Europe/Paris:20170717T190000
DTEND;TZID=Europe/Paris:20170717T200000
DTSTAMP:20260419T215716
CREATED:20170714T220911Z
LAST-MODIFIED:20170714T221039Z
UID:870-1500318000-1500321600@www.hondenschoolijmuiden.nl
SUMMARY:Summer fun: Hoopers 19.00 uur
DESCRIPTION:Voor degenen die al hoopers getraind hebben.. het is dus geen beginners niveau..laat maar weten als je mee wilt doen.. maximaal is er plek voor 5 a 6 honden per groep\, de kosten zijn 10 euro. \n
URL:https://www.hondenschoolijmuiden.nl/evenementen/summer-fun-hoopers/
LOCATION:Trainingslocatie Kamano Dogconsultancy\, Kaarweg 11\, IJmuiden\, Noord-Holland\, 1976CZ\, Nederland
CATEGORIES:Lessen
END:VEVENT
END:VCALENDAR