BEGIN:VCALENDAR
VERSION:2.0
PRODID:-//Kamano Hondenschool IJmuiden - ECPv4.9.11//NONSGML v1.0//EN
CALSCALE:GREGORIAN
METHOD:PUBLISH
X-WR-CALNAME:Kamano Hondenschool IJmuiden
X-ORIGINAL-URL:https://www.hondenschoolijmuiden.nl
X-WR-CALDESC:Events for Kamano Hondenschool IJmuiden
BEGIN:VTIMEZONE
TZID:Europe/Paris
BEGIN:DAYLIGHT
TZOFFSETFROM:+0100
TZOFFSETTO:+0200
TZNAME:CEST
DTSTART:20170326T010000
END:DAYLIGHT
BEGIN:STANDARD
TZOFFSETFROM:+0200
TZOFFSETTO:+0100
TZNAME:CET
DTSTART:20171029T010000
END:STANDARD
END:VTIMEZONE
BEGIN:VEVENT
DTSTART;TZID=Europe/Paris:20170731T184500
DTEND;TZID=Europe/Paris:20170731T194500
DTSTAMP:20260419T161301
CREATED:20170728T204112Z
LAST-MODIFIED:20170728T213100Z
UID:882-1501526700-1501530300@www.hondenschoolijmuiden.nl
SUMMARY:Summer Fun: Doggy Fit & Fun 18.45 uur
DESCRIPTION:Even lekker actief bezig samen met je hond? \nOp maandag 31 juli van 18.45 – 19.45 uur kun je meedoen met de Doggy Fit & Fun les. Deze les vindt plaats in en/of rond de trainingshal aan de Kaarweg 11 in IJmuiden. Trek makkelijk zittende (sport) kleding en schoenen aan\, en neem lekkere beloningsbrokje & een speeltje mee voor je hond.\nDe kosten zijn euro 10\,00. Geef je snel op via een SMS of Whatsapp naar 06-28777708 !\nVoor meer info: Doggy Fit & Fun \n
URL:https://www.hondenschoolijmuiden.nl/evenementen/summer-fun-doggy-fit-fun/
LOCATION:Trainingslocatie Kamano Dogconsultancy\, Kaarweg 11\, IJmuiden\, Noord-Holland\, 1976CZ\, Nederland
CATEGORIES:Lessen
END:VEVENT
END:VCALENDAR