BEGIN:VCALENDAR
VERSION:2.0
PRODID:-//Kamano Hondenschool IJmuiden - ECPv4.9.11//NONSGML v1.0//EN
CALSCALE:GREGORIAN
METHOD:PUBLISH
X-WR-CALNAME:Kamano Hondenschool IJmuiden
X-ORIGINAL-URL:https://www.hondenschoolijmuiden.nl
X-WR-CALDESC:Events for Kamano Hondenschool IJmuiden
BEGIN:VTIMEZONE
TZID:Europe/Paris
BEGIN:DAYLIGHT
TZOFFSETFROM:+0100
TZOFFSETTO:+0200
TZNAME:CEST
DTSTART:20170326T010000
END:DAYLIGHT
BEGIN:STANDARD
TZOFFSETFROM:+0200
TZOFFSETTO:+0100
TZNAME:CET
DTSTART:20171029T010000
END:STANDARD
END:VTIMEZONE
BEGIN:VEVENT
DTSTART;TZID=Europe/Paris:20170812T093000
DTEND;TZID=Europe/Paris:20170812T103000
DTSTAMP:20260419T161344
CREATED:20170807T101014Z
LAST-MODIFIED:20170807T101103Z
UID:911-1502530200-1502533800@www.hondenschoolijmuiden.nl
SUMMARY:Puppy inloop uur 12 augustus 9.30-10.30 uur
DESCRIPTION:Voor wie nog niet kan starten bij de puppycursus\, is dit de mogelijkheid om alvast wat met je hondje te doen\, en je vragen te kunnen stellen.. \nook voor degenen die al bezig zijn met de puppycursus maar behoefte hebben aan nog wat extra ondersteuning.. \nVooraf aanmelden is wel vereist via een SMS of whatsapp naar 06-28 77 77 08 \n  \n
URL:https://www.hondenschoolijmuiden.nl/evenementen/puppy-inloop-uur-12-augustus-9-30-10-30-uur/
LOCATION:Trainingslocatie Kamano Dogconsultancy\, Kaarweg 11\, IJmuiden\, Noord-Holland\, 1976CZ\, Nederland
CATEGORIES:Lessen
END:VEVENT
END:VCALENDAR