BEGIN:VCALENDAR
VERSION:2.0
PRODID:-//Kamano Hondenschool IJmuiden - ECPv4.9.11//NONSGML v1.0//EN
CALSCALE:GREGORIAN
METHOD:PUBLISH
X-WR-CALNAME:Kamano Hondenschool IJmuiden
X-ORIGINAL-URL:https://www.hondenschoolijmuiden.nl
X-WR-CALDESC:Events for Kamano Hondenschool IJmuiden
BEGIN:VTIMEZONE
TZID:Europe/Paris
BEGIN:DAYLIGHT
TZOFFSETFROM:+0100
TZOFFSETTO:+0200
TZNAME:CEST
DTSTART:20150329T010000
END:DAYLIGHT
BEGIN:STANDARD
TZOFFSETFROM:+0200
TZOFFSETTO:+0100
TZNAME:CET
DTSTART:20151025T010000
END:STANDARD
END:VTIMEZONE
BEGIN:VEVENT
DTSTART;TZID=Europe/Paris:20150905T110000
DTEND;TZID=Europe/Paris:20150905T120000
DTSTAMP:20260419T215752
CREATED:20150721T142309Z
LAST-MODIFIED:20150820T223203Z
UID:479-1441450800-1441454400@www.hondenschoolijmuiden.nl
SUMMARY:Proefles Hoopers
DESCRIPTION:Wil je kennismaken met de nieuwe hondensport Hoopers? Of vrijblijvend kijken of je hond Hoopers leuk vindt? Doe dan mee met de proefles Hoopers op zaterdag 5 september om 11.00 uur! \nWat is Hoopers? \nDe bedoeling is dat je je hond op afstand door een parcours stuurt. Het parcours bestaat uit boogvormige hoepels\, de hond kan daar gewoon doorheen lopen en hoeft dus niet te springen. Ook kunnen er tonnen\, hekjes en een tunnel in het parcours gebruikt worden. Het parcours bestaat uit vloeiende lijnen. \nDaarom is deze sport zeer geschikt voor honden waarvoor\, bijvoorbeeld door hun grootte\, de sprongen en toestellen van de Agility te belastend zijn. En voor jonge honden die nog niet mogen springen. Maar ook “senior” honden en honden in een revalidatie traject mogen Hoopers beoefenen. Voor de handler is Hoopers fysiek ook minder belastend dan agility\, het stelt wel eisen aan je duidelijkheid voor je hond als handler… \nDe leukste uitdaging is om te proberen om zo goed mogelijk je hond op afstand te leren handlen en samen met je hond plezier te hebben. Als er na deze proefles genoeg belangstelling voor is\, kan er weer een nieuwe Hoopers beginners cursus ingepland worden.. \nAanmelden kan door een mail te sturen naar info@hondenschoolijmuiden.nl\, of door onderstaand een Ticket te bestellen. Geef even op met wat voor hond je mee wil doen…je hond moet minimaal een puppy- of basiscursus gedaan hebben\, en redelijk luisteren als ie los moet werken.. \n \n
URL:https://www.hondenschoolijmuiden.nl/evenementen/proefleshoopers050915/
LOCATION:Trainingslocatie Kamano Dogconsultancy\, Kaarweg 11\, IJmuiden\, Noord-Holland\, 1976CZ\, Nederland
CATEGORIES:Proefles
END:VEVENT
END:VCALENDAR