BEGIN:VCALENDAR
VERSION:2.0
PRODID:-//Kamano Hondenschool IJmuiden - ECPv4.9.11//NONSGML v1.0//EN
CALSCALE:GREGORIAN
METHOD:PUBLISH
X-WR-CALNAME:Kamano Hondenschool IJmuiden
X-ORIGINAL-URL:https://www.hondenschoolijmuiden.nl
X-WR-CALDESC:Events for Kamano Hondenschool IJmuiden
BEGIN:VTIMEZONE
TZID:Europe/Paris
BEGIN:DAYLIGHT
TZOFFSETFROM:+0100
TZOFFSETTO:+0200
TZNAME:CEST
DTSTART:20220327T010000
END:DAYLIGHT
BEGIN:STANDARD
TZOFFSETFROM:+0200
TZOFFSETTO:+0100
TZNAME:CET
DTSTART:20221030T010000
END:STANDARD
END:VTIMEZONE
BEGIN:VEVENT
DTSTART;VALUE=DATE:20220605
DTEND;VALUE=DATE:20220607
DTSTAMP:20260420T010709
CREATED:20220529T074321Z
LAST-MODIFIED:20220529T074321Z
UID:1700-1654387200-1654559999@www.hondenschoolijmuiden.nl
SUMMARY:Pinksteren (gesloten)
DESCRIPTION:
URL:https://www.hondenschoolijmuiden.nl/evenementen/pinksteren-gesloten/
CATEGORIES:Gesloten
END:VEVENT
END:VCALENDAR