BEGIN:VCALENDAR
VERSION:2.0
PRODID:-//Kamano Hondenschool IJmuiden - ECPv4.9.11//NONSGML v1.0//EN
CALSCALE:GREGORIAN
METHOD:PUBLISH
X-WR-CALNAME:Kamano Hondenschool IJmuiden
X-ORIGINAL-URL:https://www.hondenschoolijmuiden.nl
X-WR-CALDESC:Events for Kamano Hondenschool IJmuiden
BEGIN:VTIMEZONE
TZID:Europe/Paris
BEGIN:DAYLIGHT
TZOFFSETFROM:+0100
TZOFFSETTO:+0200
TZNAME:CEST
DTSTART:20170326T010000
END:DAYLIGHT
BEGIN:STANDARD
TZOFFSETFROM:+0200
TZOFFSETTO:+0100
TZNAME:CET
DTSTART:20171029T010000
END:STANDARD
END:VTIMEZONE
BEGIN:VEVENT
DTSTART;TZID=Europe/Paris:20170409T093000
DTEND;TZID=Europe/Paris:20170409T140000
DTSTAMP:20260420T055646
CREATED:20170406T050802Z
LAST-MODIFIED:20170406T050802Z
UID:798-1491730200-1491746400@www.hondenschoolijmuiden.nl
SUMMARY:Lessen op Landgoed Beeckestijn
DESCRIPTION:Vandaag zijn de lessen op landgoed Beeckestijn. \nLet op: \n-voor de lesuren om 9.30 uur (puppy) en 10.30 uur (vervolg) spreken we af op de parkeerplaats van landgoed Beeckestijn langs de Rijksweg in Velsen. \n-voor de lesuren om 12.00 uur (combifun) en 13.00 uur (gevorderd & FCI-Obedience) spreken we af op het tweede dagrecreatieveld (volg het asfaltpad het park in\, je hebt de spoorlijn dan aan je linkerhand. Na ca 150 meter ben je bij de trainingslocatie. \nVergeet niet om water en een drinkbakje voor je hond mee te nemen!! Trek zelf makkelijke kleding en sportieve schoenen aan! \n
URL:https://www.hondenschoolijmuiden.nl/evenementen/lessen-op-landgoed-beeckestijn/
LOCATION:Landgoed Beeckestijn\, Rijksweg\, Velsen\, Nederland
END:VEVENT
END:VCALENDAR