BEGIN:VCALENDAR
VERSION:2.0
PRODID:-//Kamano Hondenschool IJmuiden - ECPv4.9.11//NONSGML v1.0//EN
CALSCALE:GREGORIAN
METHOD:PUBLISH
X-WR-CALNAME:Kamano Hondenschool IJmuiden
X-ORIGINAL-URL:https://www.hondenschoolijmuiden.nl
X-WR-CALDESC:Events for Kamano Hondenschool IJmuiden
BEGIN:VTIMEZONE
TZID:Europe/Paris
BEGIN:DAYLIGHT
TZOFFSETFROM:+0100
TZOFFSETTO:+0200
TZNAME:CEST
DTSTART:20150329T010000
END:DAYLIGHT
BEGIN:STANDARD
TZOFFSETFROM:+0200
TZOFFSETTO:+0100
TZNAME:CET
DTSTART:20151025T010000
END:STANDARD
END:VTIMEZONE
BEGIN:VEVENT
DTSTART;TZID=Europe/Paris:20150418T133000
DTEND;TZID=Europe/Paris:20150418T153000
DTSTAMP:20260420T073057
CREATED:20150130T075718Z
LAST-MODIFIED:20150327T214234Z
UID:271-1429363800-1429371000@www.hondenschoolijmuiden.nl
SUMMARY:Inentings-actie\, nu in prijs verlaagd!
DESCRIPTION: \nOp zaterdag 18 april is er voor het eerst een inentings-actie in de hondenschool. Deze middag is een dierenarts van Dr Woof! aanwezig om uw huisdier tegen een voordelig tarief in te enten en/of te chippen. Tussen 13.30 en 15.30 uur ben je welkom in de hondenschool\, je kunt je ook vooraf aanmelden via info@hondenschoolijmuiden.nl \nHier vast wat meer informatie: \nDr. Woof! is in 2009 van start gegaan als laagdrempelig alternatief voor de huisdierenpraktijk. De organisatie wordt geleid door een dierenarts met ruim 10 jaar ervaring in de grote- en kleine huisdierenpraktijk. Bij dr. Woof! zijn we van mening dat de zorg voor het huisdier goede service moet bieden en scherp geprijst kan zijn. Er wordt uitsluitend gewerkt met gediplomeerde en ervaren dierenartsen. Door efficient te werken worden de vaccinaties voordelig aan u aangeboden. \nVoor het vaccineren van uw hond betaalt u tijdens onze vaccinatieacties normaal slechts € 25\,- \, MAAR speciaal voor deze dag past Dr Woof de tarieven nog verder aan! \nVaccineren hond/kat € 20\,-\nVaccineren konijn/fret € 20\,-\nRabiësvaccinatie € 20\,- (3 jaar geldig)\nKennelhoest (hond) € 20\,- (KC; neusenting of Pneumodog; injectie)\nNeusenting kat (Bb) € 20\,-\nChippen hond/kat € 25\,-\nDierenpaspoort € 5\,- \nWil je meer informatie\, kijk dan op www.drwoof.nl \n
URL:https://www.hondenschoolijmuiden.nl/evenementen/inentings-actie/
LOCATION:Trainingslocatie Kamano Dogconsultancy\, Kaarweg 11\, IJmuiden\, Noord-Holland\, 1976CZ\, Nederland
END:VEVENT
END:VCALENDAR