BEGIN:VCALENDAR
VERSION:2.0
PRODID:-//Kamano Hondenschool IJmuiden - ECPv4.9.11//NONSGML v1.0//EN
CALSCALE:GREGORIAN
METHOD:PUBLISH
X-WR-CALNAME:Kamano Hondenschool IJmuiden
X-ORIGINAL-URL:https://www.hondenschoolijmuiden.nl
X-WR-CALDESC:Events for Kamano Hondenschool IJmuiden
BEGIN:VTIMEZONE
TZID:Europe/Paris
BEGIN:DAYLIGHT
TZOFFSETFROM:+0100
TZOFFSETTO:+0200
TZNAME:CEST
DTSTART:20190331T010000
END:DAYLIGHT
BEGIN:STANDARD
TZOFFSETFROM:+0200
TZOFFSETTO:+0100
TZNAME:CET
DTSTART:20191027T010000
END:STANDARD
END:VTIMEZONE
BEGIN:VEVENT
DTSTART;TZID=Europe/Paris:20191208T100000
DTEND;TZID=Europe/Paris:20191208T110000
DTSTAMP:20260419T124806
CREATED:20191202T114407Z
LAST-MODIFIED:20191202T114407Z
UID:1305-1575799200-1575802800@www.hondenschoolijmuiden.nl
SUMMARY:IenieMienie agility zondag 8 december 2019
DESCRIPTION:Deze training is speciaal voor de kleinste hondjes! Je kunt meedoen als jouw hondje niet meer weegt dan ongeveer 4 kilo.\nEen super leuke mogelijkheid dus om met je kleine hond te kunnen trainen zonder grotere honden erbij!\nDeze les gaan we Agility (behendigheid) doen. Uiteraard wordt er ook tijd gemaakt voor de hondjes om kennis te maken en/of te spelen. \nDe kosten zijn Euro 11\,00 per hond / Euro 18\,50 voor 2 honden van 1 eigenaar.\nVooraf aanmelden is vereist\, via een SMS of Whatsapp naar 06-28777708. Ik stuur je dan een betaalverzoekje\, je aanmelding staat zodra de betaling ontvangen is. \nLET OP: er is plek voor maximaal 6 hondjes per les. Indien er erg veel interesse is\, is het mogelijk om 2 lesuren te plannen\, de eerste van 9.30 uur tot 10.20 uur. Dan kunnen we nog 15-20 minuten speel- en koffietijd inplannen en dan van 10.40 tot 11.30 een tweede lesuur doen. \n \n
URL:https://www.hondenschoolijmuiden.nl/evenementen/ieniemienie-agility-zondag-8-december-2019/
LOCATION:Hondenschool Kamano Dogconsultancy\, Kaarweg 11\, IJmuiden\, Noord-Holland\, 1976CZ\, Nederland
END:VEVENT
END:VCALENDAR