BEGIN:VCALENDAR
VERSION:2.0
PRODID:-//Kamano Hondenschool IJmuiden - ECPv4.9.11//NONSGML v1.0//EN
CALSCALE:GREGORIAN
METHOD:PUBLISH
X-WR-CALNAME:Kamano Hondenschool IJmuiden
X-ORIGINAL-URL:https://www.hondenschoolijmuiden.nl
X-WR-CALDESC:Events for Kamano Hondenschool IJmuiden
BEGIN:VTIMEZONE
TZID:Europe/Paris
BEGIN:DAYLIGHT
TZOFFSETFROM:+0100
TZOFFSETTO:+0200
TZNAME:CEST
DTSTART:20200329T010000
END:DAYLIGHT
BEGIN:STANDARD
TZOFFSETFROM:+0200
TZOFFSETTO:+0100
TZNAME:CET
DTSTART:20201025T010000
END:STANDARD
END:VTIMEZONE
BEGIN:VEVENT
DTSTART;TZID=Europe/Paris:20200222T121500
DTEND;TZID=Europe/Paris:20200222T133000
DTSTAMP:20260421T105856
CREATED:20200216T215735Z
LAST-MODIFIED:20200216T220012Z
UID:1345-1582373700-1582378200@www.hondenschoolijmuiden.nl
SUMMARY:IenieMienie agility zaterdag 22 februari 12.15-13.30 uur
DESCRIPTION:Deze training is speciaal voor de kleinste hondjes! Je kunt meedoen als jouw hondje niet meer weegt dan ongeveer 4 kilo.\nEen super leuke mogelijkheid dus om met je kleine hond te kunnen trainen zonder grotere honden erbij!\nDeze les gaan we agility (behendigheid)  doen. Uiteraard wordt er ook tijd gemaakt voor de hondjes om kennis te maken en/of te spelen.\nDe kosten zijn Euro 11\,00 per hond / Euro 18\,50 voor 2 honden van 1 eigenaar.\nVooraf aanmelden is vereist\, via een SMS of Whatsapp naar 06-28777708. Ik stuur je dan een betaalverzoekje\, je aanmelding staat zodra de betaling ontvangen is.\nLET OP: er is plek voor maximaal 6-7 hondjes\, vol = vol! \n
URL:https://www.hondenschoolijmuiden.nl/evenementen/ieniemienie-agility-zaterdag-22-februari-12-15-13-15-uur/
LOCATION:Trainingslocatie Kamano Dogconsultancy\, Kaarweg 11\, IJmuiden\, Noord-Holland\, 1976CZ\, Nederland
END:VEVENT
END:VCALENDAR