BEGIN:VCALENDAR
VERSION:2.0
PRODID:-//Kamano Hondenschool IJmuiden - ECPv4.9.11//NONSGML v1.0//EN
CALSCALE:GREGORIAN
METHOD:PUBLISH
X-WR-CALNAME:Kamano Hondenschool IJmuiden
X-ORIGINAL-URL:https://www.hondenschoolijmuiden.nl
X-WR-CALDESC:Events for Kamano Hondenschool IJmuiden
BEGIN:VTIMEZONE
TZID:Europe/Paris
BEGIN:DAYLIGHT
TZOFFSETFROM:+0100
TZOFFSETTO:+0200
TZNAME:CEST
DTSTART:20170326T010000
END:DAYLIGHT
BEGIN:STANDARD
TZOFFSETFROM:+0200
TZOFFSETTO:+0100
TZNAME:CET
DTSTART:20171029T010000
END:STANDARD
END:VTIMEZONE
BEGIN:VEVENT
DTSTART;TZID=Europe/Paris:20170807T184500
DTEND;TZID=Europe/Paris:20170807T194500
DTSTAMP:20260419T203216
CREATED:20170731T083516Z
LAST-MODIFIED:20170731T083812Z
UID:890-1502131500-1502135100@www.hondenschoolijmuiden.nl
SUMMARY:Ienie Mienie training maandag 7 augustus 18:45 uur
DESCRIPTION:Deze training is speciaal voor de kleinste hondjes! Je kunt meedoen als jouw hondje niet meer weegt dan ongeveer 4 kilo.\nEen super leuke mogelijkheid dus om eens met je kleine hond te kunnen trainen zonder grotere honden erbij!\nWat gaan we doen? Dat kan van alles zijn\, vergelijk het maar een beetje met de combifun lessen\, er kunnen dus oefeningen gedaan worden uit allerlei andere trainingen van Kamano Dogconsultancy. Het programma zal worden aangepast aan de deelnemers zodat iedereen zich goed kan vermaken. Uiteraard wordt er ook tijd gemaakt voor de hondjes om kennis te maken en/of te spelen.\nVooraf aanmelden is vereist\, liefst via een SMS of Whatsapp naar 06-28777708! Er is plek voor maximaal 7 á 8 hondjes. \nWanneer: maandag 7 augustus 2017\nTijd: 18.45 – 19.45 uur\nLocatie: trainingshal\, Kaarweg 11 in IJmuiden\nKosten: 9\,50 per hondje / 17\,50 voor 2 hondjes van 1 eigenaar \n
URL:https://www.hondenschoolijmuiden.nl/evenementen/ienie-mienie-training-maandag-7-augustus-1845-uur/
LOCATION:Trainingslocatie Kamano Dogconsultancy\, Kaarweg 11\, IJmuiden\, Noord-Holland\, 1976CZ\, Nederland
END:VEVENT
END:VCALENDAR