BEGIN:VCALENDAR
VERSION:2.0
PRODID:-//Kamano Hondenschool IJmuiden - ECPv4.9.11//NONSGML v1.0//EN
CALSCALE:GREGORIAN
METHOD:PUBLISH
X-WR-CALNAME:Kamano Hondenschool IJmuiden
X-ORIGINAL-URL:https://www.hondenschoolijmuiden.nl
X-WR-CALDESC:Events for Kamano Hondenschool IJmuiden
BEGIN:VTIMEZONE
TZID:Europe/Paris
BEGIN:DAYLIGHT
TZOFFSETFROM:+0100
TZOFFSETTO:+0200
TZNAME:CEST
DTSTART:20170326T010000
END:DAYLIGHT
BEGIN:STANDARD
TZOFFSETFROM:+0200
TZOFFSETTO:+0100
TZNAME:CET
DTSTART:20171029T010000
END:STANDARD
END:VTIMEZONE
BEGIN:VEVENT
DTSTART;TZID=Europe/Paris:20171006T190000
DTEND;TZID=Europe/Paris:20171006T200000
DTSTAMP:20260419T144248
CREATED:20171002T060127Z
LAST-MODIFIED:20171002T060709Z
UID:943-1507316400-1507320000@www.hondenschoolijmuiden.nl
SUMMARY:Ienie Mienie training 6 oktober 19.00 - 20.00 uur
DESCRIPTION:Deze training is speciaal voor de kleinste hondjes! Je kunt meedoen als jouw hondje niet meer weegt dan ongeveer 4 kilo.\nEen super leuke mogelijkheid dus om met je kleine hond te kunnen trainen zonder grotere honden erbij!\nWat gaan we doen? Dat kan van alles zijn\, vergelijk het maar een beetje met de combifun lessen\, er kunnen dus oefeningen gedaan worden uit allerlei andere trainingen van Kamano Dogconsultancy. Het programma zal worden aangepast aan de deelnemers zodat iedereen zich goed kan vermaken. Uiteraard wordt er ook tijd gemaakt voor de hondjes om kennis te maken en/of te spelen. \nDe kosten zijn Euro 9\,50 per hond /  Euro 17\,50 voor 2 honden van 1 eigenaar. \nVooraf aanmelden is vereist\, liefst via een SMS of Whatsapp naar 06-28777708! \n
URL:https://www.hondenschoolijmuiden.nl/evenementen/ienie-mienie-training-6-oktober-19-00-20-00-uur/
LOCATION:Trainingslocatie Kamano Dogconsultancy\, Kaarweg 11\, IJmuiden\, Noord-Holland\, 1976CZ\, Nederland
CATEGORIES:Lessen
END:VEVENT
END:VCALENDAR