BEGIN:VCALENDAR
VERSION:2.0
PRODID:-//Kamano Hondenschool IJmuiden - ECPv4.9.11//NONSGML v1.0//EN
CALSCALE:GREGORIAN
METHOD:PUBLISH
X-WR-CALNAME:Kamano Hondenschool IJmuiden
X-ORIGINAL-URL:https://www.hondenschoolijmuiden.nl
X-WR-CALDESC:Events for Kamano Hondenschool IJmuiden
BEGIN:VTIMEZONE
TZID:Europe/Paris
BEGIN:DAYLIGHT
TZOFFSETFROM:+0100
TZOFFSETTO:+0200
TZNAME:CEST
DTSTART:20190331T010000
END:DAYLIGHT
BEGIN:STANDARD
TZOFFSETFROM:+0200
TZOFFSETTO:+0100
TZNAME:CET
DTSTART:20191027T010000
END:STANDARD
END:VTIMEZONE
BEGIN:VEVENT
DTSTART;TZID=Europe/Paris:20190804T123000
DTEND;TZID=Europe/Paris:20190804T133000
DTSTAMP:20260419T172510
CREATED:20190729T065526Z
LAST-MODIFIED:20190729T065647Z
UID:1237-1564921800-1564925400@www.hondenschoolijmuiden.nl
SUMMARY:Ienie Mienie Agility zondag 4 augustus om 12.30 uur
DESCRIPTION:Deze training is speciaal voor de kleinste hondjes! Je kunt meedoen als jouw hondje niet meer weegt dan ongeveer 4 kilo.\nEen super leuke mogelijkheid dus om met je kleine hond te kunnen trainen zonder grotere honden erbij!\nDeze les gaan we Agility (behendigheid) doen. Uiteraard wordt er ook tijd gemaakt voor de hondjes om kennis te maken en/of te spelen. \nDe kosten zijn Euro 10\,00 per hond / Euro 17\,50 voor 2 honden van 1 eigenaar.\nVooraf aanmelden is vereist\, via een SMS of Whatsapp naar 06-28777708 \n \n
URL:https://www.hondenschoolijmuiden.nl/evenementen/ienie-mienie-agility-zondag-4-augustus-om-12-30-uur/
LOCATION:Hondenschool Kamano Dogconsultancy\, Kaarweg 11\, IJmuiden\, Noord-Holland\, 1976CZ\, Nederland
END:VEVENT
END:VCALENDAR