BEGIN:VCALENDAR
VERSION:2.0
PRODID:-//Kamano Hondenschool IJmuiden - ECPv4.9.11//NONSGML v1.0//EN
CALSCALE:GREGORIAN
METHOD:PUBLISH
X-WR-CALNAME:Kamano Hondenschool IJmuiden
X-ORIGINAL-URL:https://www.hondenschoolijmuiden.nl
X-WR-CALDESC:Events for Kamano Hondenschool IJmuiden
BEGIN:VTIMEZONE
TZID:Europe/Paris
BEGIN:DAYLIGHT
TZOFFSETFROM:+0100
TZOFFSETTO:+0200
TZNAME:CEST
DTSTART:20220327T010000
END:DAYLIGHT
BEGIN:STANDARD
TZOFFSETFROM:+0200
TZOFFSETTO:+0100
TZNAME:CET
DTSTART:20221030T010000
END:STANDARD
END:VTIMEZONE
BEGIN:VEVENT
DTSTART;TZID=Europe/Paris:20220710T103000
DTEND;TZID=Europe/Paris:20220710T113000
DTSTAMP:20260420T042037
CREATED:20220704T213601Z
LAST-MODIFIED:20220704T213854Z
UID:1719-1657449000-1657452600@www.hondenschoolijmuiden.nl
SUMMARY:Hoopers (zomer-les)
DESCRIPTION:In de maanden juli en augustus vervallen een aantal reguliere lessen bij Kamano Dogconsultancy. Het gaat om de lessen die normaal op de zondag\, maandag en dinsdag gegeven werden. In plaats daarvan komt er een “zomer-rooster” en worden er diverse leuke trainingen in verschillende hondensporten aangeboden. Let op\, voor deze zomer-lessen kun je je alleen aanmelden als je al bij Kamano traint of getraind hebt. De kosten zijn 11 euro per les. Vooraf aanmelden = verplicht! \n
URL:https://www.hondenschoolijmuiden.nl/evenementen/hoopers-zomer-les/
LOCATION:Trainingslocatie Kamano Dogconsultancy\, Kaarweg 11\, IJmuiden\, Noord-Holland\, 1976CZ\, Nederland
CATEGORIES:Lessen
END:VEVENT
END:VCALENDAR