BEGIN:VCALENDAR
VERSION:2.0
PRODID:-//Kamano Hondenschool IJmuiden - ECPv4.9.11//NONSGML v1.0//EN
CALSCALE:GREGORIAN
METHOD:PUBLISH
X-WR-CALNAME:Kamano Hondenschool IJmuiden
X-ORIGINAL-URL:https://www.hondenschoolijmuiden.nl
X-WR-CALDESC:Events for Kamano Hondenschool IJmuiden
BEGIN:VTIMEZONE
TZID:Europe/Paris
BEGIN:DAYLIGHT
TZOFFSETFROM:+0100
TZOFFSETTO:+0200
TZNAME:CEST
DTSTART:20190331T010000
END:DAYLIGHT
BEGIN:STANDARD
TZOFFSETFROM:+0200
TZOFFSETTO:+0100
TZNAME:CET
DTSTART:20191027T010000
END:STANDARD
END:VTIMEZONE
BEGIN:VEVENT
DTSTART;VALUE=DATE:20190511
DTEND;VALUE=DATE:20190512
DTSTAMP:20260419T214015
CREATED:20190507T200037Z
LAST-MODIFIED:20190507T200037Z
UID:1201-1557532800-1557619199@www.hondenschoolijmuiden.nl
SUMMARY:Hondenschool gesloten\, geen lessen
DESCRIPTION:Op zaterdag 11 mei is de hondenschool gesloten en zijn er geen lessen. Dit in verband met een landelijk FCI Obedience examen in Hilversum. \n
URL:https://www.hondenschoolijmuiden.nl/evenementen/hondenschool-gesloten-geen-lessen-2/
CATEGORIES:Geen lessen
END:VEVENT
END:VCALENDAR