BEGIN:VCALENDAR
VERSION:2.0
PRODID:-//Kamano Hondenschool IJmuiden - ECPv4.9.11//NONSGML v1.0//EN
CALSCALE:GREGORIAN
METHOD:PUBLISH
X-WR-CALNAME:Kamano Hondenschool IJmuiden
X-ORIGINAL-URL:https://www.hondenschoolijmuiden.nl
X-WR-CALDESC:Events for Kamano Hondenschool IJmuiden
BEGIN:VTIMEZONE
TZID:Europe/Paris
BEGIN:DAYLIGHT
TZOFFSETFROM:+0100
TZOFFSETTO:+0200
TZNAME:CEST
DTSTART:20170326T010000
END:DAYLIGHT
BEGIN:STANDARD
TZOFFSETFROM:+0200
TZOFFSETTO:+0100
TZNAME:CET
DTSTART:20171029T010000
END:STANDARD
BEGIN:DAYLIGHT
TZOFFSETFROM:+0100
TZOFFSETTO:+0200
TZNAME:CEST
DTSTART:20180325T010000
END:DAYLIGHT
BEGIN:STANDARD
TZOFFSETFROM:+0200
TZOFFSETTO:+0100
TZNAME:CET
DTSTART:20181028T010000
END:STANDARD
END:VTIMEZONE
BEGIN:VEVENT
DTSTART;TZID=Europe/Paris:20171225T073000
DTEND;TZID=Europe/Paris:20180101T213000
DTSTAMP:20260419T203049
CREATED:20171217T201544Z
LAST-MODIFIED:20171217T201641Z
UID:1012-1514187000-1514842200@www.hondenschoolijmuiden.nl
SUMMARY:Hondenschool en dagopvang gesloten
DESCRIPTION:Van 25 december 2017 tot en met 1 januari 2018 zijn de hondenschool en dagopvang gesloten. Fijne feestdagen en graag tot ziens in t nieuwe jaar! \n
URL:https://www.hondenschoolijmuiden.nl/evenementen/hondenschool-en-dagopvang-gesloten/
LOCATION:Hondenschool Kamano Dogconsultancy\, Kaarweg 11\, IJmuiden\, Noord-Holland\, 1976CZ\, Nederland
CATEGORIES:Geen lessen
END:VEVENT
END:VCALENDAR