BEGIN:VCALENDAR
VERSION:2.0
PRODID:-//Kamano Hondenschool IJmuiden - ECPv4.9.11//NONSGML v1.0//EN
CALSCALE:GREGORIAN
METHOD:PUBLISH
X-WR-CALNAME:Kamano Hondenschool IJmuiden
X-ORIGINAL-URL:https://www.hondenschoolijmuiden.nl
X-WR-CALDESC:Events for Kamano Hondenschool IJmuiden
BEGIN:VTIMEZONE
TZID:Europe/Paris
BEGIN:DAYLIGHT
TZOFFSETFROM:+0100
TZOFFSETTO:+0200
TZNAME:CEST
DTSTART:20170326T010000
END:DAYLIGHT
BEGIN:STANDARD
TZOFFSETFROM:+0200
TZOFFSETTO:+0100
TZNAME:CET
DTSTART:20171029T010000
END:STANDARD
END:VTIMEZONE
BEGIN:VEVENT
DTSTART;VALUE=DATE:20171023
DTEND;VALUE=DATE:20171030
DTSTAMP:20260419T202706
CREATED:20170926T093741Z
LAST-MODIFIED:20170926T093741Z
UID:934-1508716800-1509321599@www.hondenschoolijmuiden.nl
SUMMARY:Herfstvakantie: hondenschool gesloten\, dagopvang geopend
DESCRIPTION:In de herfstvakantie vervallen de reguliere lessen/trainingen bij de hondenschool van maandag 23 oktober tot en met zondag 29 oktober 2017. \nOnze dagopvang is in deze periode wel gewoon open van maandag tot en met vrijdag. \n
URL:https://www.hondenschoolijmuiden.nl/evenementen/herfstvakantie-hondenschool-gesloten-dagopvang-geopend/
LOCATION:Hondenschool Kamano Dogconsultancy\, Kaarweg 11\, IJmuiden\, Noord-Holland\, 1976CZ\, Nederland
CATEGORIES:Geen lessen
END:VEVENT
END:VCALENDAR