BEGIN:VCALENDAR
VERSION:2.0
PRODID:-//Kamano Hondenschool IJmuiden - ECPv4.9.11//NONSGML v1.0//EN
CALSCALE:GREGORIAN
METHOD:PUBLISH
X-WR-CALNAME:Kamano Hondenschool IJmuiden
X-ORIGINAL-URL:https://www.hondenschoolijmuiden.nl
X-WR-CALDESC:Events for Kamano Hondenschool IJmuiden
BEGIN:VTIMEZONE
TZID:Europe/Paris
BEGIN:DAYLIGHT
TZOFFSETFROM:+0100
TZOFFSETTO:+0200
TZNAME:CEST
DTSTART:20170326T010000
END:DAYLIGHT
BEGIN:STANDARD
TZOFFSETFROM:+0200
TZOFFSETTO:+0100
TZNAME:CET
DTSTART:20171029T010000
END:STANDARD
END:VTIMEZONE
BEGIN:VEVENT
DTSTART;TZID=Europe/Paris:20170808T183000
DTEND;TZID=Europe/Paris:20170808T193000
DTSTAMP:20260419T185500
CREATED:20170807T095358Z
LAST-MODIFIED:20170807T095358Z
UID:905-1502217000-1502220600@www.hondenschoolijmuiden.nl
SUMMARY:Geen vervolg les 18.30 uur
DESCRIPTION:Ivm gewijzigde indeling van de cursisten die bij deze les aanwezig zouden zijn\, is er op dinsdag 8 augustus geen vervolg les om 18.30 uur. De puppy les om 19.30 en combifun om 20.30 gaan wel gewoon door! \n
URL:https://www.hondenschoolijmuiden.nl/evenementen/geen-vervolg-les-18-30-uur/
CATEGORIES:Geen lessen
END:VEVENT
END:VCALENDAR