BEGIN:VCALENDAR
VERSION:2.0
PRODID:-//Kamano Hondenschool IJmuiden - ECPv4.9.11//NONSGML v1.0//EN
CALSCALE:GREGORIAN
METHOD:PUBLISH
X-WR-CALNAME:Kamano Hondenschool IJmuiden
X-ORIGINAL-URL:https://www.hondenschoolijmuiden.nl
X-WR-CALDESC:Events for Kamano Hondenschool IJmuiden
BEGIN:VTIMEZONE
TZID:Europe/Paris
BEGIN:DAYLIGHT
TZOFFSETFROM:+0100
TZOFFSETTO:+0200
TZNAME:CEST
DTSTART:20190331T010000
END:DAYLIGHT
BEGIN:STANDARD
TZOFFSETFROM:+0200
TZOFFSETTO:+0100
TZNAME:CET
DTSTART:20191027T010000
END:STANDARD
END:VTIMEZONE
BEGIN:VEVENT
DTSTART;VALUE=DATE:20190329
DTEND;VALUE=DATE:20190330
DTSTAMP:20260421T105701
CREATED:20190328T233759Z
LAST-MODIFIED:20190328T233759Z
UID:1186-1553817600-1553903999@www.hondenschoolijmuiden.nl
SUMMARY:Geen lessen
DESCRIPTION:In verband met een bijscholingsdag van instructeur Karin zijn er geen lessen op vrijdag 29 maart. \n
URL:https://www.hondenschoolijmuiden.nl/evenementen/geen-lessen/
CATEGORIES:Geen lessen
END:VEVENT
END:VCALENDAR