BEGIN:VCALENDAR
VERSION:2.0
PRODID:-//Kamano Hondenschool IJmuiden - ECPv4.9.11//NONSGML v1.0//EN
CALSCALE:GREGORIAN
METHOD:PUBLISH
X-WR-CALNAME:Kamano Hondenschool IJmuiden
X-ORIGINAL-URL:https://www.hondenschoolijmuiden.nl
X-WR-CALDESC:Events for Kamano Hondenschool IJmuiden
BEGIN:VTIMEZONE
TZID:Europe/Paris
BEGIN:DAYLIGHT
TZOFFSETFROM:+0100
TZOFFSETTO:+0200
TZNAME:CEST
DTSTART:20180325T010000
END:DAYLIGHT
BEGIN:STANDARD
TZOFFSETFROM:+0200
TZOFFSETTO:+0100
TZNAME:CET
DTSTART:20181028T010000
END:STANDARD
END:VTIMEZONE
BEGIN:VEVENT
DTSTART;VALUE=DATE:20180121
DTEND;VALUE=DATE:20180122
DTSTAMP:20260419T145104
CREATED:20180113T234516Z
LAST-MODIFIED:20180113T234516Z
UID:1024-1516492800-1516579199@www.hondenschoolijmuiden.nl
SUMMARY:Geen lessen op zondag 21 januari 2018
DESCRIPTION:Zondag 21 januari vervallen alle reguliere lessen. Instructrice Karin is die dag aanwezig bij een FCI Obedience trainingswedstrijd in Hoofddorp. \n
URL:https://www.hondenschoolijmuiden.nl/evenementen/geen-lessen-op-zondag-21-januari-2018/
LOCATION:Trainingslocatie Kamano Dogconsultancy\, Kaarweg 11\, IJmuiden\, Noord-Holland\, 1976CZ\, Nederland
END:VEVENT
END:VCALENDAR