BEGIN:VCALENDAR
VERSION:2.0
PRODID:-//Kamano Hondenschool IJmuiden - ECPv4.9.11//NONSGML v1.0//EN
CALSCALE:GREGORIAN
METHOD:PUBLISH
X-WR-CALNAME:Kamano Hondenschool IJmuiden
X-ORIGINAL-URL:https://www.hondenschoolijmuiden.nl
X-WR-CALDESC:Events for Kamano Hondenschool IJmuiden
BEGIN:VTIMEZONE
TZID:Europe/Paris
BEGIN:DAYLIGHT
TZOFFSETFROM:+0100
TZOFFSETTO:+0200
TZNAME:CEST
DTSTART:20190331T010000
END:DAYLIGHT
BEGIN:STANDARD
TZOFFSETFROM:+0200
TZOFFSETTO:+0100
TZNAME:CET
DTSTART:20191027T010000
END:STANDARD
END:VTIMEZONE
BEGIN:VEVENT
DTSTART;VALUE=DATE:20190427
DTEND;VALUE=DATE:20190428
DTSTAMP:20260419T215901
CREATED:20190426T072256Z
LAST-MODIFIED:20190426T072256Z
UID:1197-1556323200-1556409599@www.hondenschoolijmuiden.nl
SUMMARY:Geen lessen ivm Koningsdag
DESCRIPTION:Op zaterdag 27 april is de hondenschool gesloten\, en zijn er geen lessen in verband met Koningsdag. \n
URL:https://www.hondenschoolijmuiden.nl/evenementen/geen-lessen-ivm-koningsdag/
CATEGORIES:Geen lessen
END:VEVENT
END:VCALENDAR