BEGIN:VCALENDAR
VERSION:2.0
PRODID:-//Kamano Hondenschool IJmuiden - ECPv4.9.11//NONSGML v1.0//EN
CALSCALE:GREGORIAN
METHOD:PUBLISH
X-WR-CALNAME:Kamano Hondenschool IJmuiden
X-ORIGINAL-URL:https://www.hondenschoolijmuiden.nl
X-WR-CALDESC:Events for Kamano Hondenschool IJmuiden
BEGIN:VTIMEZONE
TZID:Europe/Paris
BEGIN:DAYLIGHT
TZOFFSETFROM:+0100
TZOFFSETTO:+0200
TZNAME:CEST
DTSTART:20190331T010000
END:DAYLIGHT
BEGIN:STANDARD
TZOFFSETFROM:+0200
TZOFFSETTO:+0100
TZNAME:CET
DTSTART:20191027T010000
END:STANDARD
END:VTIMEZONE
BEGIN:VEVENT
DTSTART;VALUE=DATE:20191109
DTEND;VALUE=DATE:20191111
DTSTAMP:20260419T141259
CREATED:20191014T063547Z
LAST-MODIFIED:20191014T063750Z
UID:1264-1573257600-1573430399@www.hondenschoolijmuiden.nl
SUMMARY:Geen les op zaterdag 9 november 2019\, lessen worden verplaatst naar zondag 10 november
DESCRIPTION:In verband met een examen van trainer Karin\, zijn er geen lessen op zaterdag 9 november 2019. De lessen van deze zaterdag worden verplaatst naar zondag 10 november\, er is dan puppy-starter les om 9.30 uur en gevorderden les om 10.45 uur. \n
URL:https://www.hondenschoolijmuiden.nl/evenementen/geen-les-op-zaterdag-9-november-2019/
LOCATION:Hondenschool Kamano Dogconsultancy\, Kaarweg 11\, IJmuiden\, Noord-Holland\, 1976CZ\, Nederland
CATEGORIES:Lessen
END:VEVENT
END:VCALENDAR