BEGIN:VCALENDAR
VERSION:2.0
PRODID:-//Kamano Hondenschool IJmuiden - ECPv4.9.11//NONSGML v1.0//EN
CALSCALE:GREGORIAN
METHOD:PUBLISH
X-WR-CALNAME:Kamano Hondenschool IJmuiden
X-ORIGINAL-URL:https://www.hondenschoolijmuiden.nl
X-WR-CALDESC:Events for Kamano Hondenschool IJmuiden
BEGIN:VTIMEZONE
TZID:Europe/Paris
BEGIN:DAYLIGHT
TZOFFSETFROM:+0100
TZOFFSETTO:+0200
TZNAME:CEST
DTSTART:20200329T010000
END:DAYLIGHT
BEGIN:STANDARD
TZOFFSETFROM:+0200
TZOFFSETTO:+0100
TZNAME:CET
DTSTART:20201025T010000
END:STANDARD
END:VTIMEZONE
BEGIN:VEVENT
DTSTART;VALUE=DATE:20200316
DTEND;VALUE=DATE:20200407
DTSTAMP:20260420T074338
CREATED:20200317T101634Z
LAST-MODIFIED:20200317T101814Z
UID:1364-1584316800-1586217599@www.hondenschoolijmuiden.nl
SUMMARY:Geen groepslessen 16 maart tot en met 6 april 2020
DESCRIPTION:In verband met landelijke maatregelen omtrent het Corona-virus\, worden er geen groepslessen gegeven. Kijk voor actuele info en nieuws over wat er bij Kamano gebeurt\, bij onze nieuwsberichten . We rekenen op uw begrip en hopelijk tot binnenkort! \n
URL:https://www.hondenschoolijmuiden.nl/evenementen/geen-groepslessen-16-maart-tot-en-met-6-april-2020/
CATEGORIES:Geen lessen
END:VEVENT
END:VCALENDAR