BEGIN:VCALENDAR
VERSION:2.0
PRODID:-//Kamano Hondenschool IJmuiden - ECPv4.9.11//NONSGML v1.0//EN
CALSCALE:GREGORIAN
METHOD:PUBLISH
X-WR-CALNAME:Kamano Hondenschool IJmuiden
X-ORIGINAL-URL:https://www.hondenschoolijmuiden.nl
X-WR-CALDESC:Events for Kamano Hondenschool IJmuiden
BEGIN:VTIMEZONE
TZID:Europe/Paris
BEGIN:DAYLIGHT
TZOFFSETFROM:+0100
TZOFFSETTO:+0200
TZNAME:CEST
DTSTART:20170326T010000
END:DAYLIGHT
BEGIN:STANDARD
TZOFFSETFROM:+0200
TZOFFSETTO:+0100
TZNAME:CET
DTSTART:20171029T010000
END:STANDARD
END:VTIMEZONE
BEGIN:VEVENT
DTSTART;TZID=Europe/Paris:20170716T120000
DTEND;TZID=Europe/Paris:20170716T130000
DTSTAMP:20260419T185231
CREATED:20170714T220134Z
LAST-MODIFIED:20170714T220134Z
UID:866-1500206400-1500210000@www.hondenschoolijmuiden.nl
SUMMARY:Geen combifun les
DESCRIPTION:Ivm een bezoek van instructeur Karin aan het WK Schapendrijven is er geen combifun les om 12.00 uur \n
URL:https://www.hondenschoolijmuiden.nl/evenementen/geen-combifun-les/
LOCATION:Trainingslocatie Kamano Dogconsultancy\, Kaarweg 11\, IJmuiden\, Noord-Holland\, 1976CZ\, Nederland
CATEGORIES:Geen lessen
END:VEVENT
END:VCALENDAR