BEGIN:VCALENDAR
VERSION:2.0
PRODID:-//Kamano Hondenschool IJmuiden - ECPv4.9.11//NONSGML v1.0//EN
CALSCALE:GREGORIAN
METHOD:PUBLISH
X-WR-CALNAME:Kamano Hondenschool IJmuiden
X-ORIGINAL-URL:https://www.hondenschoolijmuiden.nl
X-WR-CALDESC:Events for Kamano Hondenschool IJmuiden
BEGIN:VTIMEZONE
TZID:Europe/Paris
BEGIN:DAYLIGHT
TZOFFSETFROM:+0100
TZOFFSETTO:+0200
TZNAME:CEST
DTSTART:20170326T010000
END:DAYLIGHT
BEGIN:STANDARD
TZOFFSETFROM:+0200
TZOFFSETTO:+0100
TZNAME:CET
DTSTART:20171029T010000
END:STANDARD
END:VTIMEZONE
BEGIN:VEVENT
DTSTART;TZID=Europe/Paris:20170710T183000
DTEND;TZID=Europe/Paris:20170710T213000
DTSTAMP:20260419T173722
CREATED:20170710T101829Z
LAST-MODIFIED:20170710T101829Z
UID:861-1499711400-1499722200@www.hondenschoolijmuiden.nl
SUMMARY:Geen avond-lessen
DESCRIPTION:Vandaag zijn er geen avond-lessen\, het is de pauze-week na de laatste lessen op 3 juli van het Hoopers-blok. De volgende Hoopers-blokken starten weer op maandag 4 september 2017. \nIn de tussenliggende weken gaan op de maandagavond verschillende leuke trainingen aangeboden worden\, houd de website dus goed in de gaten! \n
URL:https://www.hondenschoolijmuiden.nl/evenementen/geen-avond-lessen/
LOCATION:Trainingslocatie Kamano Dogconsultancy\, Kaarweg 11\, IJmuiden\, Noord-Holland\, 1976CZ\, Nederland
CATEGORIES:Geen lessen
END:VEVENT
END:VCALENDAR