BEGIN:VCALENDAR
VERSION:2.0
PRODID:-//Kamano Hondenschool IJmuiden - ECPv4.9.11//NONSGML v1.0//EN
CALSCALE:GREGORIAN
METHOD:PUBLISH
X-WR-CALNAME:Kamano Hondenschool IJmuiden
X-ORIGINAL-URL:https://www.hondenschoolijmuiden.nl
X-WR-CALDESC:Events for Kamano Hondenschool IJmuiden
BEGIN:VTIMEZONE
TZID:Europe/Paris
BEGIN:DAYLIGHT
TZOFFSETFROM:+0100
TZOFFSETTO:+0200
TZNAME:CEST
DTSTART:20150329T010000
END:DAYLIGHT
BEGIN:STANDARD
TZOFFSETFROM:+0200
TZOFFSETTO:+0100
TZNAME:CET
DTSTART:20151025T010000
END:STANDARD
END:VTIMEZONE
BEGIN:VEVENT
DTSTART;TZID=Europe/Paris:20150513T194500
DTEND;TZID=Europe/Paris:20150513T204500
DTSTAMP:20260420T010740
CREATED:20150425T203325Z
LAST-MODIFIED:20150425T203325Z
UID:411-1431546300-1431549900@www.hondenschoolijmuiden.nl
SUMMARY:Combifun les - Apporteren & heelwork (volgen)
DESCRIPTION:
URL:https://www.hondenschoolijmuiden.nl/evenementen/combifun-les-apporteren-heelwork-volgen/
LOCATION:Trainingslocatie Kamano Dogconsultancy\, Kaarweg 11\, IJmuiden\, Noord-Holland\, 1976CZ\, Nederland
CATEGORIES:Lessen
END:VEVENT
END:VCALENDAR