BEGIN:VCALENDAR
VERSION:2.0
PRODID:-//Kamano Hondenschool IJmuiden - ECPv4.9.11//NONSGML v1.0//EN
CALSCALE:GREGORIAN
METHOD:PUBLISH
X-WR-CALNAME:Kamano Hondenschool IJmuiden
X-ORIGINAL-URL:https://www.hondenschoolijmuiden.nl
X-WR-CALDESC:Events for Kamano Hondenschool IJmuiden
BEGIN:VTIMEZONE
TZID:Europe/Paris
BEGIN:DAYLIGHT
TZOFFSETFROM:+0100
TZOFFSETTO:+0200
TZNAME:CEST
DTSTART:20170326T010000
END:DAYLIGHT
BEGIN:STANDARD
TZOFFSETFROM:+0200
TZOFFSETTO:+0100
TZNAME:CET
DTSTART:20171029T010000
END:STANDARD
END:VTIMEZONE
BEGIN:VEVENT
DTSTART;TZID=Europe/Paris:20171217T130000
DTEND;TZID=Europe/Paris:20171217T160000
DTSTAMP:20260419T233255
CREATED:20171029T184108Z
LAST-MODIFIED:20171029T184108Z
UID:959-1513515600-1513526400@www.hondenschoolijmuiden.nl
SUMMARY:Workshop EHBO bij je hond
DESCRIPTION:Een ongeluk zit in een klein hoekje en dat geld ook voor de hond. \nDeze workshop zal gaan over de belangrijkste punten die u moet weten bij de eerste hulp voor honden.  Onder andere: de verzorging van wonden\, bloedingen en epileptische aanvallen. Er zal een theorie en praktijk gedeelte zijn. Tijdens het praktijk gedeelte zullen de deelnemers zelf verbanden aan gaan leggen. Zoals bijvoorbeeld een poot- of kopverband. \nLotte Koster zal deze workshop geven. Zij is paraveterinair dierenartsassistente en natuurgeneeskundig bewegingstherapeut voor dieren. Lotte heeft haar eigen praktijk Equinolibre. \nVoor aanmelden kunt u bellen\, sms-sen\, whatsappen of mailen naar: \nKarin: 06-28777708 / info@hondenschoolijmuiden.nl \nLotte: 06-42633875 / info@equinolibre.nl \nEr is plek voor ongeveer 15 personen. Deze workshop volgt u zonder hond. Indien u denkt dat uw hond geschikt is om mee te oefenen bij het praktijkgedeelte\, geef dit dan bij uw aanmelding aan. \n
URL:https://www.hondenschoolijmuiden.nl/evenementen/workshop-ehbo-hond/
LOCATION:Trainingslocatie Kamano Dogconsultancy\, Kaarweg 11\, IJmuiden\, Noord-Holland\, 1976CZ\, Nederland
CATEGORIES:Workshop
END:VEVENT
END:VCALENDAR