BEGIN:VCALENDAR
VERSION:2.0
PRODID:-//Kamano Hondenschool IJmuiden - ECPv4.9.11//NONSGML v1.0//EN
CALSCALE:GREGORIAN
METHOD:PUBLISH
X-WR-CALNAME:Kamano Hondenschool IJmuiden
X-ORIGINAL-URL:https://www.hondenschoolijmuiden.nl
X-WR-CALDESC:Events for Kamano Hondenschool IJmuiden
BEGIN:VTIMEZONE
TZID:Europe/Paris
BEGIN:DAYLIGHT
TZOFFSETFROM:+0100
TZOFFSETTO:+0200
TZNAME:CEST
DTSTART:20150329T010000
END:DAYLIGHT
BEGIN:STANDARD
TZOFFSETFROM:+0200
TZOFFSETTO:+0100
TZNAME:CET
DTSTART:20151025T010000
END:STANDARD
END:VTIMEZONE
BEGIN:VEVENT
DTSTART;TZID=Europe/Paris:20150322T140000
DTEND;TZID=Europe/Paris:20150322T160000
DTSTAMP:20260424T033436
CREATED:20150306T211735Z
LAST-MODIFIED:20150306T213659Z
UID:320-1427032800-1427040000@www.hondenschoolijmuiden.nl
SUMMARY:Workshop Lichaamstaal en Communicatie van de hond
DESCRIPTION:  \nOp veler verzoek gaat Kamano Dogconsultancy workshops inplannen waarin je meer kan leren over hoe je hond “praat” . Honden hebben een rijke en gevarieerde manier om emoties te tonen\, en het is voor ons als eigenaren vaak niet makkelijk om deze signalen op tijd te herkennen en er op de goede manier op te reageren…pas wel op want honden leren observeren is verslavend\, en leert ons soms weer iets over onszelf 🙂 \nDeze workshop volg je zonder hond\, maar is wel interactief…als je je opgeeft kun je vooraf foto’s of video’s opsturen van je  eigen hond waarvan je graag wilt weten wat ie nou bedoelt… \nGraag tot ziens op 22 maart! Je kunt je aanmelden via een mailtje naar info@hondenschoolijmuiden.nl \n
URL:https://www.hondenschoolijmuiden.nl/evenementen/workshop-lichaamstaal-en-communicatie-van-de-hond/
LOCATION:Trainingslocatie Kamano Dogconsultancy\, Kaarweg 11\, IJmuiden\, Noord-Holland\, 1976CZ\, Nederland
CATEGORIES:Workshop
END:VEVENT
END:VCALENDAR