BEGIN:VCALENDAR
VERSION:2.0
PRODID:-//Kamano Hondenschool IJmuiden - ECPv4.9.11//NONSGML v1.0//EN
CALSCALE:GREGORIAN
METHOD:PUBLISH
X-WR-CALNAME:Kamano Hondenschool IJmuiden
X-ORIGINAL-URL:https://www.hondenschoolijmuiden.nl
X-WR-CALDESC:Events for Kamano Hondenschool IJmuiden
BEGIN:VTIMEZONE
TZID:Europe/Paris
BEGIN:DAYLIGHT
TZOFFSETFROM:+0100
TZOFFSETTO:+0200
TZNAME:CEST
DTSTART:20200329T010000
END:DAYLIGHT
BEGIN:STANDARD
TZOFFSETFROM:+0200
TZOFFSETTO:+0100
TZNAME:CET
DTSTART:20201025T010000
END:STANDARD
END:VTIMEZONE
BEGIN:VEVENT
DTSTART;TZID=Europe/Paris:20200119T103000
DTEND;TZID=Europe/Paris:20200119T133000
DTSTAMP:20260424T075414
CREATED:20191014T091253Z
LAST-MODIFIED:20191014T203507Z
UID:1268-1579429800-1579440600@www.hondenschoolijmuiden.nl
SUMMARY:Goede doelen wandeling tbv Stichting Dierensteun La Vida
DESCRIPTION:Op zondag 19 januari 2020 kunt u meedoen met een goede doelenwandeling. Hiermee steunt u het mooie werk van stichting Dierensteun La Vida die veelal wat oudere en kansarmere honden uit Spanje in Nederland aan een warm mandje probeert te helpen. \nMeer info volgt binnenkort\, het wordt waarschijnlijk wandelen vanaf laat in de ochtend\, en inclusief versnapering en loterij. Inschrijfgeld zal euro 7\,50 per persoon zijn. Lootjes kosten 1 euro per stuk. Sociale honden zijn van harte welkom! \nNoteer de datum vast in de agenda? Dank u wel! \n
URL:https://www.hondenschoolijmuiden.nl/evenementen/goede-doelen-wandeling-tbv-stichting-dierensteun-la-vida/
LOCATION:Hondenschool Kamano Dogconsultancy\, Kaarweg 11\, IJmuiden\, Noord-Holland\, 1976CZ\, Nederland
CATEGORIES:Wandeling
END:VEVENT
END:VCALENDAR